BEGIN:VCALENDAR
VERSION:2.0
PRODID:-//Johnny H Adventures
CALSCALE:GREGORIAN
METHOD:PUBLISH
X-WR-CALNAME:Johnny H Adventures
X-ORIGINAL-URL:https://www.johnnyh.com.au/products/jhsa-country-paradise-car-night-markets-30-11-24/
X-WR-CALDESC:JHSA: Country Paradise Car Night Markets (30.11.24)
BEGIN:VEVENT
DTSTART;TZID=Australia/Melbourne:20241130T160000
DTEND;TZID=Australia/Melbourne:20241130T210000
SUMMARY:JHSA: Country Paradise Car Night Markets (30.11.24)
DESCRIPTION:Country Paradise Car Night Markets Get ready for an evening filled with live music, classic cars, and delicious eats at the Country Paradise Parklands night market! This Saturday night outing offers a vibrant atmosphere and a range of activities for a memorable evening with friends.
URL:https://www.johnnyh.com.au/products/jhsa-country-paradise-car-night-markets-30-11-24/
LOCATION:
END:VEVENT
END:VCALENDAR
