BEGIN:VCALENDAR
VERSION:2.0
PRODID:-//Johnny H Adventures
CALSCALE:GREGORIAN
METHOD:PUBLISH
X-WR-CALNAME:Johnny H Adventures
X-ORIGINAL-URL:https://www.johnnyh.com.au/products/jpso-come-cook-greek-workshop-17-11-24/
X-WR-CALDESC:JPSO: Come &#038; Cook Greek Workshop (17.11.24)
BEGIN:VEVENT
DTSTART;TZID=Australia/Melbourne:20241117T100000
DTEND;TZID=Australia/Melbourne:20241117T160000
SUMMARY:JPSO: Come & Cook Greek Workshop (17.11.24)
DESCRIPTION:Come &amp; Cook Greek Workshop Join us for a culinary adventure through Greece at Johnny's Place! This workshop will take you through the vibrant and delicious world of Greek cuisine. From fresh herbs and bold spices to iconic Mediterranean ingredients, you’ll learn to prepare some of Greece's most beloved dishes in a fun, hands-on setting.
URL:https://www.johnnyh.com.au/products/jpso-come-cook-greek-workshop-17-11-24/
LOCATION:
END:VEVENT
END:VCALENDAR
