BEGIN:VCALENDAR
VERSION:2.0
PRODID:-//Johnny H Adventures
CALSCALE:GREGORIAN
METHOD:PUBLISH
X-WR-CALNAME:Johnny H Adventures
X-ORIGINAL-URL:https://www.johnnyh.com.au/products/jhda-ride-the-christmas-train-08-12-24/
X-WR-CALDESC:JHDA: Ride the Christmas Train! (08-12-24)
BEGIN:VEVENT
DTSTART;TZID=Australia/Melbourne:20241208T090000
DTEND;TZID=Australia/Melbourne:20241208T170000
SUMMARY:JHDA: Ride the Christmas Train! (08-12-24)
DESCRIPTION:Ride the Christmas Train! Get into the festive spirit with a Sunday outing aboard the magical Christmas Train and Mini Elf Express! Step into a holiday wonderland as the museum and trains transform into a Christmas dreamscape. This experience is brimming with joy, decorations, and holiday cheer, perfect for a day of fun and relaxation with friends.
URL:https://www.johnnyh.com.au/products/jhda-ride-the-christmas-train-08-12-24/
LOCATION:
END:VEVENT
END:VCALENDAR
