BEGIN:VCALENDAR
VERSION:2.0
PRODID:-//Johnny H Adventures
CALSCALE:GREGORIAN
METHOD:PUBLISH
X-WR-CALNAME:Johnny H Adventures
X-ORIGINAL-URL:https://www.johnnyh.com.au/products/jhile-lads-independent-living-experience-29-11-02-12-24/
X-WR-CALDESC:JHILE: Lads Independent Living Experience (29.11-02.12.24)
BEGIN:VEVENT
DTSTART;TZID=Australia/Melbourne:20241129T160000
DTEND;TZID=Australia/Melbourne:20241201T150000
SUMMARY:JHILE: Lads Independent Living Experience (29.11-02.12.24)
DESCRIPTION:Lads Independent Living Experience An Independent Living Experience involves a short trip away within a small group where we build the skills, confidence and motivation needed to be self-sufficient in our daily lives. Over the 3 days and 2 nights away our small group will work through tasks designed to build independence within a safe and encouraging environment. We will also enjoy social group interaction through a range of supported activities.
URL:https://www.johnnyh.com.au/products/jhile-lads-independent-living-experience-29-11-02-12-24/
LOCATION:
END:VEVENT
END:VCALENDAR
