BEGIN:VCALENDAR
VERSION:2.0
PRODID:-//Johnny H Adventures
CALSCALE:GREGORIAN
METHOD:PUBLISH
X-WR-CALNAME:Johnny H Adventures
X-ORIGINAL-URL:https://www.johnnyh.com.au/products/jhsa-mount-tamborine-adventure-22-01-25/
X-WR-CALDESC:JHDA: Mount Tamborine Adventure (22.01.25)
BEGIN:VEVENT
DTSTART;TZID=Australia/Melbourne:20250122T090000
DTEND;TZID=Australia/Melbourne:20250122T150000
SUMMARY:JHDA: Mount Tamborine Adventure (22.01.25)
DESCRIPTION:Mount Tamborine Adventure Experience the serene beauty of Mount Tamborine with a visit to the lush Botanical Gardens and the fascinating Coffee Plantation. Enjoy a relaxing picnic lunch, provided for you, among the trees.
URL:https://www.johnnyh.com.au/products/jhsa-mount-tamborine-adventure-22-01-25/
LOCATION:
END:VEVENT
END:VCALENDAR
