BEGIN:VCALENDAR
VERSION:2.0
PRODID:-//Johnny H Adventures
CALSCALE:GREGORIAN
METHOD:PUBLISH
X-WR-CALNAME:Johnny H Adventures
X-ORIGINAL-URL:https://www.johnnyh.com.au/products/jhda-virtual-gaming-at-club-parkwood-24-01-25/
X-WR-CALDESC:JHDA: Virtual Gaming at Club Parkwood (24.01.25)
BEGIN:VEVENT
DTSTART;TZID=Australia/Melbourne:20250124T090000
DTEND;TZID=Australia/Melbourne:20250124T150000
SUMMARY:JHDA: Virtual Gaming at Club Parkwood (24.01.25)
DESCRIPTION:Virtual Gaming at Club Parkwood Dive into a day of high-tech excitement at Club Parkwood, where you can explore a variety of virtual games inside the cutting-edge simulator suite. Whether you’re teeing off in a golf challenge or pitching a fastball, the immersive experience promises endless entertainment.
URL:https://www.johnnyh.com.au/products/jhda-virtual-gaming-at-club-parkwood-24-01-25/
LOCATION:
END:VEVENT
END:VCALENDAR
