BEGIN:VCALENDAR
VERSION:2.0
PRODID:-//Johnny H Adventures
CALSCALE:GREGORIAN
METHOD:PUBLISH
X-WR-CALNAME:Johnny H Adventures
X-ORIGINAL-URL:https://www.johnnyh.com.au/products/jhda-jetboating-on-sydney-harbour-02-02-25/
X-WR-CALDESC:JHDA: Jetboating on Sydney Harbour (02-02-25)
BEGIN:VEVENT
DTSTART;TZID=Australia/Melbourne:20250202T080000
DTEND;TZID=Australia/Melbourne:20250202T160000
SUMMARY:JHDA: Jetboating on Sydney Harbour (02-02-25)
DESCRIPTION:Moonlight Cinema - A Night Under the Stars! Join us for a relaxed and memorable Saturday evening at Moonlight Cinema in Centennial Park, Sydney. Enjoy a movie under the stars in a beautiful outdoor setting. With a film yet to be announced, it promises to be a night filled with great entertainment, good company, and the charm of an open-air cinema.
URL:https://www.johnnyh.com.au/products/jhda-jetboating-on-sydney-harbour-02-02-25/
LOCATION:
END:VEVENT
END:VCALENDAR
