BEGIN:VCALENDAR
VERSION:2.0
PRODID:-//Johnny H Adventures
CALSCALE:GREGORIAN
METHOD:PUBLISH
X-WR-CALNAME:Johnny H Adventures
X-ORIGINAL-URL:https://www.johnnyh.com.au/products/jhda-movieworld-day-out-01-02-25/
X-WR-CALDESC:JHDA: MovieWorld Day Out (01.02.25)
BEGIN:VEVENT
DTSTART;TZID=Australia/Melbourne:20250201T090000
DTEND;TZID=Australia/Melbourne:20250201T150000
SUMMARY:JHDA: MovieWorld Day Out (01.02.25)
DESCRIPTION:Join Johnny H for an action-packed day at MovieWorld on the Gold Coast! Experience the thrill of rides, the magic of movie sets, and a fun-filled adventure. Please note - you must have your own theme park pass to join in this event.
URL:https://www.johnnyh.com.au/products/jhda-movieworld-day-out-01-02-25/
LOCATION:
END:VEVENT
END:VCALENDAR
