BEGIN:VCALENDAR
VERSION:2.0
PRODID:-//Johnny H Adventures
CALSCALE:GREGORIAN
METHOD:PUBLISH
X-WR-CALNAME:Johnny H Adventures
X-ORIGINAL-URL:https://www.johnnyh.com.au/products/jhda-amazing-race-gold-coast-02-02-25/
X-WR-CALDESC:JHDA: Amazing Race Gold Coast (02.02.25)
BEGIN:VEVENT
DTSTART;TZID=Australia/Melbourne:20250202T090000
DTEND;TZID=Australia/Melbourne:20250202T150000
SUMMARY:JHDA: Amazing Race Gold Coast (02.02.25)
DESCRIPTION:Get ready for a thrilling day of fun, teamwork, and friendly competition! Our Amazing Race Adventure takes you on an exciting journey through the local community, where you'll tackle creative challenges, solve puzzles, and complete tasks in a race to the finish line.
URL:https://www.johnnyh.com.au/products/jhda-amazing-race-gold-coast-02-02-25/
LOCATION:
END:VEVENT
END:VCALENDAR
