BEGIN:VCALENDAR
VERSION:2.0
PRODID:-//Johnny H Adventures
CALSCALE:GREGORIAN
METHOD:PUBLISH
X-WR-CALNAME:Johnny H Adventures
X-ORIGINAL-URL:https://www.johnnyh.com.au/products/jhsa-ten-pin-bowling-and-dinner-07-02-25/
X-WR-CALDESC:JHSA: Ten Pin Bowling and Dinner (07.02.25)
BEGIN:VEVENT
DTSTART;TZID=Australia/Melbourne:20250207T160000
DTEND;TZID=Australia/Melbourne:20250207T210000
SUMMARY:JHSA: Ten Pin Bowling and Dinner (07.02.25)
DESCRIPTION:Kick off the weekend with a fun-filled Friday Evening of Social Bowling! Enjoy great company, friendly competition, and a delicious dinner in a relaxed and entertaining atmosphere.
URL:https://www.johnnyh.com.au/products/jhsa-ten-pin-bowling-and-dinner-07-02-25/
LOCATION:
END:VEVENT
END:VCALENDAR
