BEGIN:VCALENDAR
VERSION:2.0
PRODID:-//Johnny H Adventures
CALSCALE:GREGORIAN
METHOD:PUBLISH
X-WR-CALNAME:Johnny H Adventures
X-ORIGINAL-URL:https://www.johnnyh.com.au/products/jhsa-infinity-surfers-paradise-and-dinner-21-02-25/
X-WR-CALDESC:JHSA: Infinity Surfers Paradise and Dinner (21.02.25)
BEGIN:VEVENT
DTSTART;TZID=Australia/Melbourne:20250221T160000
DTEND;TZID=Australia/Melbourne:20250221T210000
SUMMARY:JHSA: Infinity Surfers Paradise and Dinner (21.02.25)
DESCRIPTION:Catch all the action at the Gold Coast Surfing Open at Burleigh Heads! This iconic surfing event showcases some of the best talent on the waves while offering a vibrant atmosphere at one of the Gold Coast’s most beautiful beaches.
URL:https://www.johnnyh.com.au/products/jhsa-infinity-surfers-paradise-and-dinner-21-02-25/
LOCATION:
END:VEVENT
END:VCALENDAR
