BEGIN:VCALENDAR
VERSION:2.0
PRODID:-//Johnny H Adventures
CALSCALE:GREGORIAN
METHOD:PUBLISH
X-WR-CALNAME:Johnny H Adventures
X-ORIGINAL-URL:https://www.johnnyh.com.au/products/jhda-sydney-royal-easter-show-12-04-25/
X-WR-CALDESC:JHDA: Sydney Royal Easter Show: Full Day Experience (12-04-25)
BEGIN:VEVENT
DTSTART;TZID=Australia/Melbourne:20250412T090000
DTEND;TZID=Australia/Melbourne:20250412T210000
SUMMARY:JHDA: Sydney Royal Easter Show: Full Day Experience (12-04-25)
DESCRIPTION:Enjoy a fun-filled FULL DAY Outing to the Sydney Royal Easter Show on a Saturday! Experience the best of agriculture, entertainment, and activities at this iconic event, with all meals included throughout the day.
URL:https://www.johnnyh.com.au/products/jhda-sydney-royal-easter-show-12-04-25/
LOCATION:
END:VEVENT
END:VCALENDAR
