BEGIN:VCALENDAR
VERSION:2.0
PRODID:-//Johnny H Adventures
CALSCALE:GREGORIAN
METHOD:PUBLISH
X-WR-CALNAME:Johnny H Adventures
X-ORIGINAL-URL:https://www.johnnyh.com.au/products/jhsa-movie-night-snow-white-11-04-25/
X-WR-CALDESC:JHSA: Movie Night: Snow White (11-04-25)
BEGIN:VEVENT
DTSTART;TZID=Australia/Melbourne:20250411T170000
DTEND;TZID=Australia/Melbourne:20250411T210000
SUMMARY:JHSA: Movie Night: Snow White (11-04-25)
DESCRIPTION:Enjoy a magical night out at the cinema to see Disney’s much-awaited new release of Snow White! Treat yourself to an enjoyable evening filled with good company, a delicious meal, and a memorable film experience.
URL:https://www.johnnyh.com.au/products/jhsa-movie-night-snow-white-11-04-25/
LOCATION:
END:VEVENT
END:VCALENDAR
