BEGIN:VCALENDAR
VERSION:2.0
PRODID:-//Johnny H Adventures
CALSCALE:GREGORIAN
METHOD:PUBLISH
X-WR-CALNAME:Johnny H Adventures
X-ORIGINAL-URL:https://www.johnnyh.com.au/products/jhso-come-and-cook-easter-treats-13-04-25/
X-WR-CALDESC:JHSO: Come and Cook Easter Treats! (13-04-25)
BEGIN:VEVENT
DTSTART;TZID=Australia/Melbourne:20250413T120000
DTEND;TZID=Australia/Melbourne:20250413T170000
SUMMARY:JHSO: Come and Cook Easter Treats! (13-04-25)
DESCRIPTION:Join us for a festive Easter-themed 'Come and Cook' session at Johnny’s Place! Get hands-on in the kitchen, creating delicious Easter treats while enjoying a fun and social atmosphere.
URL:https://www.johnnyh.com.au/products/jhso-come-and-cook-easter-treats-13-04-25/
LOCATION:
END:VEVENT
END:VCALENDAR
