BEGIN:VCALENDAR
VERSION:2.0
PRODID:-//Johnny H Adventures
CALSCALE:GREGORIAN
METHOD:PUBLISH
X-WR-CALNAME:Johnny H Adventures
X-ORIGINAL-URL:https://www.johnnyh.com.au/products/jhda-timezone-and-lunch-08-03-25/
X-WR-CALDESC:JHDA: TimeZone and Lunch (08.03.25)
BEGIN:VEVENT
DTSTART;TZID=Australia/Melbourne:20250308T110000
DTEND;TZID=Australia/Melbourne:20250308T170000
SUMMARY:JHDA: TimeZone and Lunch (08.03.25)
DESCRIPTION:Get ready for a fun-filled Saturday Session at Timezone! Enjoy an exciting day of arcade games, interactive experiences, and great company, followed by a delicious lunch.
URL:https://www.johnnyh.com.au/products/jhda-timezone-and-lunch-08-03-25/
LOCATION:
END:VEVENT
END:VCALENDAR
