BEGIN:VCALENDAR
VERSION:2.0
PRODID:-//Johnny H Adventures
CALSCALE:GREGORIAN
METHOD:PUBLISH
X-WR-CALNAME:Johnny H Adventures
X-ORIGINAL-URL:https://www.johnnyh.com.au/products/jhda-skirmish-outdoor-paintball-and-bbq-29-03-25/
X-WR-CALDESC:JHDA: Skirmish Outdoor Paintball and BBQ (29.03.25)
BEGIN:VEVENT
DTSTART;TZID=Australia/Melbourne:20250329T090000
DTEND;TZID=Australia/Melbourne:20250329T150000
SUMMARY:JHDA: Skirmish Outdoor Paintball and BBQ (29.03.25)
DESCRIPTION:Gear up for an action-packed Saturday Skirmish Paintball Session followed by a BBQ lunch at Hinterland Park! Get ready for an adrenaline-fuelled battle with friends in an exciting outdoor setting.
URL:https://www.johnnyh.com.au/products/jhda-skirmish-outdoor-paintball-and-bbq-29-03-25/
LOCATION:
END:VEVENT
END:VCALENDAR
