BEGIN:VCALENDAR
VERSION:2.0
PRODID:-//Johnny H Adventures
CALSCALE:GREGORIAN
METHOD:PUBLISH
X-WR-CALNAME:Johnny H Adventures
X-ORIGINAL-URL:https://www.johnnyh.com.au/products/jhda-supanova-comic-con-gaming-convention-12-04-25/
X-WR-CALDESC:JHDA: Supanova Comic Con &#038; Gaming Convention (12.04.25)
BEGIN:VEVENT
DTSTART;TZID=Australia/Melbourne:20250412T090000
DTEND;TZID=Australia/Melbourne:20250412T160000
SUMMARY:JHDA: Supanova Comic Con & Gaming Convention (12.04.25)
DESCRIPTION:Join us on Saturday, 12 April for a full day of pop culture fun at Supanova Comic Con &amp; Gaming at the Gold Coast Convention and Exhibition Centre. From comics and cosplay to anime, gaming, and celebrity guests, this action-packed event is a fan favourite and a highlight of the Easter holiday program.
URL:https://www.johnnyh.com.au/products/jhda-supanova-comic-con-gaming-convention-12-04-25/
LOCATION:
END:VEVENT
END:VCALENDAR
