BEGIN:VCALENDAR
VERSION:2.0
PRODID:-//Johnny H Adventures
CALSCALE:GREGORIAN
METHOD:PUBLISH
X-WR-CALNAME:Johnny H Adventures
X-ORIGINAL-URL:https://www.johnnyh.com.au/products/jhsa-bowling-and-bbq-08-06-25/
X-WR-CALDESC:JHSA: Bowling and BBQ (08-06-25)
BEGIN:VEVENT
DTSTART;TZID=Australia/Melbourne:20250608T120000
DTEND;TZID=Australia/Melbourne:20250608T160000
SUMMARY:JHSA: Bowling and BBQ (08-06-25)
DESCRIPTION:Spend your Sunday enjoying good food and friendly competition. Start with a BBQ lunch at Johnny’s Place, then enjoy two games of bowling filled with fun and laughter.
URL:https://www.johnnyh.com.au/products/jhsa-bowling-and-bbq-08-06-25/
LOCATION:
END:VEVENT
END:VCALENDAR
