BEGIN:VCALENDAR
VERSION:2.0
PRODID:-//Johnny H Adventures
CALSCALE:GREGORIAN
METHOD:PUBLISH
X-WR-CALNAME:Johnny H Adventures
X-ORIGINAL-URL:https://www.johnnyh.com.au/products/jhjp-term-3-mondays-life-skills-day-program-30-06-22-09-25-2/
X-WR-CALDESC:JHJP: Term 3 Mondays Life Skills Day Program (30.06-22.09.25)
BEGIN:VEVENT
DTSTART;TZID=Australia/Melbourne:20250922T083000
DTEND;TZID=Australia/Melbourne:20250922T153000
SUMMARY:JHJP: Term 3 Mondays Life Skills Day Program (30.06-22.09.25)
DESCRIPTION:Start the week by building confidence in the kitchen. Mondays in our Life Skills day program are all about learning practical cooking skills that support everyday independence. In the afternoon, participants head out to shop for ingredients.
URL:https://www.johnnyh.com.au/products/jhjp-term-3-mondays-life-skills-day-program-30-06-22-09-25-2/
LOCATION:
END:VEVENT
END:VCALENDAR
