BEGIN:VCALENDAR
VERSION:2.0
PRODID:-//Johnny H Adventures
CALSCALE:GREGORIAN
METHOD:PUBLISH
X-WR-CALNAME:Johnny H Adventures
X-ORIGINAL-URL:https://www.johnnyh.com.au/products/jhjp-term-3-tuesdays-life-skills-day-program-01-07-23-09-25-2/
X-WR-CALDESC:JHJP: Term 3 Tuesdays Life Skills Day Program (01.07-23.09.25)
BEGIN:VEVENT
DTSTART;TZID=Australia/Melbourne:20250923T083000
DTEND;TZID=Australia/Melbourne:20250923T153000
SUMMARY:JHJP: Term 3 Tuesdays Life Skills Day Program (01.07-23.09.25)
DESCRIPTION:Tuesdays in our Life Skills day program focuses on helping participants plan their day, manage their time, and build routines, followed by a focus on physical fitness in the afternoon.
URL:https://www.johnnyh.com.au/products/jhjp-term-3-tuesdays-life-skills-day-program-01-07-23-09-25-2/
LOCATION:
END:VEVENT
END:VCALENDAR
