BEGIN:VCALENDAR
VERSION:2.0
PRODID:-//Johnny H Adventures
CALSCALE:GREGORIAN
METHOD:PUBLISH
X-WR-CALNAME:Johnny H Adventures
X-ORIGINAL-URL:https://www.johnnyh.com.au/products/jhjp-term-3-thursdays-life-skills-day-program-03-07-25-09-25-2/
X-WR-CALDESC:JHJP: Term 3 Thursdays Life Skills Day Program (03.07-25.09.25)
BEGIN:VEVENT
DTSTART;TZID=Australia/Melbourne:20250925T083000
DTEND;TZID=Australia/Melbourne:20250925T153000
SUMMARY:JHJP: Term 3 Thursdays Life Skills Day Program (03.07-25.09.25)
DESCRIPTION:In our Life Skills day program on Thursdays we support healthy routines and personal wellbeing through a mix of structured learning and physical activity. In the mornings we explore key health and wellbeing topics such as nutrition, hygiene, movement and self-care while the afternoons involves hydrotherapy-based swimming in a supportive, low-impact environment.
URL:https://www.johnnyh.com.au/products/jhjp-term-3-thursdays-life-skills-day-program-03-07-25-09-25-2/
LOCATION:
END:VEVENT
END:VCALENDAR
