BEGIN:VCALENDAR
VERSION:2.0
PRODID:-//Johnny H Adventures
CALSCALE:GREGORIAN
METHOD:PUBLISH
X-WR-CALNAME:Johnny H Adventures
X-ORIGINAL-URL:https://www.johnnyh.com.au/products/jhls-term-4-mondays-health-wellbeing-social-connection-29-09-15-12-25/
X-WR-CALDESC:JHLS: Term 4 Mondays Health, Wellbeing &#038; Social Connection (29.09-15.12.25)
BEGIN:VEVENT
DTSTART;TZID=Australia/Melbourne:20251215T083000
DTEND;TZID=Australia/Melbourne:20251215T153000
SUMMARY:JHLS: Term 4 Mondays Health, Wellbeing & Social Connection (29.09-15.12.25)
DESCRIPTION:Start the week with a focus on healthy living. Mondays combine practical cooking skills with time spent outdoors to support both body and mind.
URL:https://www.johnnyh.com.au/products/jhls-term-4-mondays-health-wellbeing-social-connection-29-09-15-12-25/
LOCATION:
END:VEVENT
END:VCALENDAR
