BEGIN:VCALENDAR
VERSION:2.0
PRODID:-//Johnny H Adventures
CALSCALE:GREGORIAN
METHOD:PUBLISH
X-WR-CALNAME:Johnny H Adventures
X-ORIGINAL-URL:https://www.johnnyh.com.au/products/jhsa-bowling-round-4-28-06-26/
X-WR-CALDESC:JHSA: Bowling Round 4 (28-06-26)
BEGIN:VEVENT
DTSTART;TZID=Australia/Melbourne:20260628T120000
DTEND;TZID=Australia/Melbourne:20260628T160000
SUMMARY:JHSA: Bowling Round 4 (28-06-26)
DESCRIPTION:Get ready to roll! The Johnny H Bowling Competition is open to bowlers of all levels - improve your bowling skills, catch up with friends and accrue points towards the finals. Book and attend a total of 6 rounds across the season to earn your very own Johnny H bowling shirt!
URL:https://www.johnnyh.com.au/products/jhsa-bowling-round-4-28-06-26/
LOCATION:
END:VEVENT
END:VCALENDAR
