BEGIN:VCALENDAR
VERSION:2.0
PRODID:-//Johnny H Adventures
CALSCALE:GREGORIAN
METHOD:PUBLISH
X-WR-CALNAME:Johnny H Adventures
X-ORIGINAL-URL:https://www.johnnyh.com.au/products/jhsa-sunset-cinemas-six-the-musical-06-02-26/
X-WR-CALDESC:JHSA: Sunset Cinemas &#8211; Six The Musical (06-02-26)
BEGIN:VEVENT
DTSTART;TZID=Australia/Melbourne:20260206T170000
DTEND;TZID=Australia/Melbourne:20260206T220000
SUMMARY:JHSA: Sunset Cinemas – Six The Musical (06-02-26)
DESCRIPTION:Get ready for a magical evening under the stars at Sunset Cinema as we enjoy a special outdoor screening of SIX the Musical at the beautiful National Botanic Gardens, Canberra. Combine fresh air, great company, and a hit musical for a relaxed and memorable night out in one of Canberra’s most scenic locations.
URL:https://www.johnnyh.com.au/products/jhsa-sunset-cinemas-six-the-musical-06-02-26/
LOCATION:
END:VEVENT
END:VCALENDAR
