BEGIN:VCALENDAR
VERSION:2.0
PRODID:-//Johnny H Adventures
CALSCALE:GREGORIAN
METHOD:PUBLISH
X-WR-CALNAME:Johnny H Adventures
X-ORIGINAL-URL:https://www.johnnyh.com.au/products/jhsa-bowling-practice-round-06-02-26/
X-WR-CALDESC:JHSA: Bowling Practice Round (06-02-26)
BEGIN:VEVENT
DTSTART;TZID=Australia/Melbourne:20260206T160000
DTEND;TZID=Australia/Melbourne:20260206T200000
SUMMARY:JHSA: Bowling Practice Round (06-02-26)
DESCRIPTION:Get ready to warm up! The Johnny H Bowling Practice Round is all about getting back into the groove before the big competition begins. This session is perfect for bowlers of all levels who want to refresh their skills, build confidence, and enjoy a relaxed game with friends — no pressure, just practice.
URL:https://www.johnnyh.com.au/products/jhsa-bowling-practice-round-06-02-26/
LOCATION:
END:VEVENT
END:VCALENDAR
