BEGIN:VCALENDAR
VERSION:2.0
PRODID:-//Johnny H Adventures
CALSCALE:GREGORIAN
METHOD:PUBLISH
X-WR-CALNAME:Johnny H Adventures
X-ORIGINAL-URL:https://www.johnnyh.com.au/products/jhon-canberra-nrl-overnighter-may-26/
X-WR-CALDESC:JHON: Canberra Overnighter &#8211; Watch Raiders v Panthers Live (10.05-11.05.26)
BEGIN:VEVENT
DTSTART;TZID=Australia/Melbourne:20260510T090000
DTEND;TZID=Australia/Melbourne:20260511T153000
SUMMARY:JHON: Canberra Overnighter – Watch Raiders v Panthers Live (10.05-11.05.26)
DESCRIPTION:Overnight Canberra getaway featuring live NRL action, local sights, great company and a comfortable hotel stay. A fun, supported trip that builds confidence, connection and independence through shared experiences.
URL:https://www.johnnyh.com.au/products/jhon-canberra-nrl-overnighter-may-26/
LOCATION:
END:VEVENT
END:VCALENDAR
