BEGIN:VCALENDAR
VERSION:2.0
PRODID:-//Johnny H Adventures
CALSCALE:GREGORIAN
METHOD:PUBLISH
X-WR-CALNAME:Johnny H Adventures
X-ORIGINAL-URL:https://www.johnnyh.com.au/products/jpso-dolphins-vs-panthers-watch-party-17-04-26/
X-WR-CALDESC:JPSO: Dolphins vs Panthers Watch Party (17-04-26)
BEGIN:VEVENT
DTSTART;TZID=Australia/Melbourne:20260417T170000
DTEND;TZID=Australia/Melbourne:20260417T220000
SUMMARY:JPSO: Dolphins vs Panthers Watch Party (17-04-26)
DESCRIPTION:Join us for a Dolphins vs Panthers Watch Party at Johnny’s Place! Catch every moment on the big screen, cheer alongside fellow footy fans, enjoy delicious food, and soak up the electric game-day atmosphere. It’s the perfect way to enjoy the match together!
URL:https://www.johnnyh.com.au/products/jpso-dolphins-vs-panthers-watch-party-17-04-26/
LOCATION:
END:VEVENT
END:VCALENDAR
