BEGIN:VCALENDAR
VERSION:2.0
PRODID:-//Johnny H Adventures
CALSCALE:GREGORIAN
METHOD:PUBLISH
X-WR-CALNAME:Johnny H Adventures
X-ORIGINAL-URL:https://www.johnnyh.com.au/products/jhsa-state-of-origin-game-i-27-05-26/
X-WR-CALDESC:JHSA: State of Origin Game I (27-05-26)
BEGIN:VEVENT
DTSTART;TZID=Australia/Melbourne:20260527T170000
DTEND;TZID=Australia/Melbourne:20260527T230000
SUMMARY:JHSA: State of Origin Game I (27-05-26)
DESCRIPTION:Get ready for all the action of State of Origin Game One! Join us to cheer on your team, catch every try, and soak up the electric game-day atmosphere with fellow footy fans.
URL:https://www.johnnyh.com.au/products/jhsa-state-of-origin-game-i-27-05-26/
LOCATION:
END:VEVENT
END:VCALENDAR
