BEGIN:VCALENDAR
VERSION:2.0
PRODID:-//Johnny H Adventures
CALSCALE:GREGORIAN
METHOD:PUBLISH
X-WR-CALNAME:Johnny H Adventures
X-ORIGINAL-URL:https://www.johnnyh.com.au/products/jhda-cowra-japanese-gardens-19-04-26/
X-WR-CALDESC:JHDA: Cowra Japanese Gardens (19-04-26)
BEGIN:VEVENT
DTSTART;TZID=Australia/Melbourne:20260419T090000
DTEND;TZID=Australia/Melbourne:20260419T170000
SUMMARY:JHDA: Cowra Japanese Gardens (19-04-26)
DESCRIPTION:Immerse yourself in the peaceful beauty of the Cowra Japanese Garden and Cultural Centre. Spend a relaxing day wandering through one of Australia’s most stunning and authentic Japanese gardens, enjoying tranquil landscapes, seasonal colours, and the calming atmosphere that makes this garden so special.
URL:https://www.johnnyh.com.au/products/jhda-cowra-japanese-gardens-19-04-26/
LOCATION:
END:VEVENT
END:VCALENDAR
