BEGIN:VCALENDAR
VERSION:2.0
PRODID:-//Johnny H Adventures
CALSCALE:GREGORIAN
METHOD:PUBLISH
X-WR-CALNAME:Johnny H Adventures
X-ORIGINAL-URL:https://www.johnnyh.com.au/products/jpso-dungeons-and-dragons-role-play-02-05-26/
X-WR-CALDESC:JPSO: Dungeons and Dragons Role Play (02-05-26)
BEGIN:VEVENT
DTSTART;TZID=Australia/Melbourne:20260502T100000
DTEND;TZID=Australia/Melbourne:20260502T150000
SUMMARY:JPSO: Dungeons and Dragons Role Play (02-05-26)
DESCRIPTION:Step into a world of fantasy and imagination with Dungeons &amp; Dragons, where you’ll role-play as a unique character embarking on thrilling adventures. With your Dungeon Master guiding the way, you’ll make choices, roll the dice, and shape your story in an epic fantasy world. Our day together includes lunch and afternoon tea.
URL:https://www.johnnyh.com.au/products/jpso-dungeons-and-dragons-role-play-02-05-26/
LOCATION:
END:VEVENT
END:VCALENDAR
