BEGIN:VCALENDAR
VERSION:2.0
PRODID:-//Johnny H Adventures
CALSCALE:GREGORIAN
METHOD:PUBLISH
X-WR-CALNAME:Johnny H Adventures
X-ORIGINAL-URL:https://www.johnnyh.com.au/products/jpso-magic-round-watch-party-17-05-26/
X-WR-CALDESC:JPSO: Magic Round Watch Party (17-05-26)
BEGIN:VEVENT
DTSTART;TZID=Australia/Melbourne:20260517T140000
DTEND;TZID=Australia/Melbourne:20260517T203000
SUMMARY:JPSO: Magic Round Watch Party (17-05-26)
DESCRIPTION:Get ready for the ultimate NRL Magic Round Watch Party! Join us at Johnny’s Place for a full day of footy, food, and fun as we watch three huge games back-to-back on the big screen. With great company, plenty of snacks, and exciting activities in between, it’s a game day experience you won’t want to miss.
URL:https://www.johnnyh.com.au/products/jpso-magic-round-watch-party-17-05-26/
LOCATION:
END:VEVENT
END:VCALENDAR
