BEGIN:VCALENDAR
VERSION:2.0
PRODID:-//Johnny H Adventures
CALSCALE:GREGORIAN
METHOD:PUBLISH
X-WR-CALNAME:Johnny H Adventures
X-ORIGINAL-URL:https://www.johnnyh.com.au/products/jpso-just-dance-and-pizza-party-29-05-26/
X-WR-CALDESC:JPSO: Just Dance and Pizza Party (29-05-26)
BEGIN:VEVENT
DTSTART;TZID=Australia/Melbourne:20260529T170000
DTEND;TZID=Australia/Melbourne:20260529T210000
SUMMARY:JPSO: Just Dance and Pizza Party (29-05-26)
DESCRIPTION:Get ready to move, groove, and munch because we’re hosting a Just Dance &amp; Pizza Party at Johnny’s Place! It’s the perfect combo of fun, music, and food—whether you’re a dance pro or just in it for the laughs, this is a night you won’t want to miss.
URL:https://www.johnnyh.com.au/products/jpso-just-dance-and-pizza-party-29-05-26/
LOCATION:
END:VEVENT
END:VCALENDAR
