BEGIN:VCALENDAR
VERSION:2.0
PRODID:-//Johnny H Adventures
CALSCALE:GREGORIAN
METHOD:PUBLISH
X-WR-CALNAME:Johnny H Adventures
X-ORIGINAL-URL:https://www.johnnyh.com.au/products/jhda-taralga-wildlife-park-02-05-26/
X-WR-CALDESC:JHDA: Taralga Wildlife Park (02-05-26)
BEGIN:VEVENT
DTSTART;TZID=Australia/Melbourne:20260502T090000
DTEND;TZID=Australia/Melbourne:20260502T170000
SUMMARY:JHDA: Taralga Wildlife Park (02-05-26)
DESCRIPTION:Get ready for a fun and memorable day out at Taralga Wildlife Park! Spend the day surrounded by nature as you meet a variety of friendly animals, explore open spaces, and enjoy a relaxed country atmosphere.
URL:https://www.johnnyh.com.au/products/jhda-taralga-wildlife-park-02-05-26/
LOCATION:
END:VEVENT
END:VCALENDAR
