BEGIN:VCALENDAR
VERSION:2.0
PRODID:-//Johnny H Adventures
CALSCALE:GREGORIAN
METHOD:PUBLISH
X-WR-CALNAME:Johnny H Adventures
X-ORIGINAL-URL:https://www.johnnyh.com.au/products/jhsa-holey-moley-mini-golf-22-05-26/
X-WR-CALDESC:JHSA: Holey Moley Mini Golf (22-05-26)
BEGIN:VEVENT
DTSTART;TZID=Australia/Melbourne:20260522T170000
DTEND;TZID=Australia/Melbourne:20260522T220000
SUMMARY:JHSA: Holey Moley Mini Golf (22-05-26)
DESCRIPTION:Spend your Saturday enjoying good food and quirky mini golf. Start with lunch at Johnny’s Place, then head to Canberra Holey Moley for 18 holes of golf and laughter.
URL:https://www.johnnyh.com.au/products/jhsa-holey-moley-mini-golf-22-05-26/
LOCATION:
END:VEVENT
END:VCALENDAR
