BEGIN:VCALENDAR
VERSION:2.0
PRODID:-//Johnny H Adventures
CALSCALE:GREGORIAN
METHOD:PUBLISH
X-WR-CALNAME:Johnny H Adventures
X-ORIGINAL-URL:https://www.johnnyh.com.au/products/jhon-2n-hunter-valley/
X-WR-CALDESC:JHON: 2N Hunter Valley
BEGIN:VEVENT
DTSTART;TZID=Australia/Melbourne:20220617T120000
DTEND;TZID=Australia/Melbourne:20220619T170000
SUMMARY:JHON: 2N Hunter Valley
DESCRIPTION:
URL:https://www.johnnyh.com.au/products/jhon-2n-hunter-valley/
LOCATION:
END:VEVENT
END:VCALENDAR
