BEGIN:VCALENDAR
VERSION:2.0
PRODID:-//Johnny H Adventures
CALSCALE:GREGORIAN
METHOD:PUBLISH
X-WR-CALNAME:Johnny H Adventures
X-ORIGINAL-URL:https://www.johnnyh.com.au/products/jhda-superhero-sunday-with-supernova/
X-WR-CALDESC:JHDA: Superhero Sunday with Supernova
BEGIN:VEVENT
DTSTART;TZID=Australia/Melbourne:20220619T090000
DTEND;TZID=Australia/Melbourne:20220619T190000
SUMMARY:JHDA: Superhero Sunday with Supernova
DESCRIPTION:
URL:https://www.johnnyh.com.au/products/jhda-superhero-sunday-with-supernova/
LOCATION:
END:VEVENT
END:VCALENDAR
