BEGIN:VCALENDAR
VERSION:2.0
PRODID:-//Johnny H Adventures
CALSCALE:GREGORIAN
METHOD:PUBLISH
X-WR-CALNAME:Johnny H Adventures
X-ORIGINAL-URL:https://www.johnnyh.com.au/products/jpso-nrl-state-of-origin-showdown/
X-WR-CALDESC:JPSO: NRL State of Origin Showdown
BEGIN:VEVENT
DTSTART;TZID=Australia/Melbourne:20220626T160000
DTEND;TZID=Australia/Melbourne:20220626T213000
SUMMARY:JPSO: NRL State of Origin Showdown
DESCRIPTION:James here again. I'll be finishing my trip off by watching the game with you all. I don't always watch Rugby League but when I do Queensland always win! Are you going to come to this and prove me wrong?
URL:https://www.johnnyh.com.au/products/jpso-nrl-state-of-origin-showdown/
LOCATION:
END:VEVENT
END:VCALENDAR
