BEGIN:VCALENDAR
VERSION:2.0
PRODID:-//Johnny H Adventures
CALSCALE:GREGORIAN
METHOD:PUBLISH
X-WR-CALNAME:Johnny H Adventures
X-ORIGINAL-URL:https://www.johnnyh.com.au/products/jpso-2nd-first-birthday-party/
X-WR-CALDESC:JPSO: 2nd First Birthday Party
BEGIN:VEVENT
DTSTART;TZID=Australia/Melbourne:20220625T160000
DTEND;TZID=Australia/Melbourne:20220625T210000
SUMMARY:JPSO: 2nd First Birthday Party
DESCRIPTION:Wow can you believe that Johnnys Place is actually two years old! Scott with some of the staff from the Gold Coast will be down to celebrate with you all and bust out some moves! Don't forget the theme is NEON so dress bright.
URL:https://www.johnnyh.com.au/products/jpso-2nd-first-birthday-party/
LOCATION:
END:VEVENT
END:VCALENDAR
