BEGIN:VCALENDAR
VERSION:2.0
PRODID:-//Johnny H Adventures
CALSCALE:GREGORIAN
METHOD:PUBLISH
X-WR-CALNAME:Johnny H Adventures
X-ORIGINAL-URL:https://www.johnnyh.com.au/products/jhsa-were-going-out-to-the-movies/
X-WR-CALDESC:JHSA: We&#8217;re going out to the MOVIES!! (24 June)
BEGIN:VEVENT
DTSTART;TZID=Australia/Melbourne:20220624T170000
DTEND;TZID=Australia/Melbourne:20220624T213000
SUMMARY:JHSA: We’re going out to the MOVIES!! (24 June)
DESCRIPTION:Hey everyone James here. I'm not sure what we'll be going to see but I'm really looking forward to heading to the movies with you all! I don't knwo about you but I'm looking forward to seeing the new Jurassic Park movie - we might be able to get in to see that but whatever we see I'm sure we'll have a blast!
URL:https://www.johnnyh.com.au/products/jhsa-were-going-out-to-the-movies/
LOCATION:
END:VEVENT
END:VCALENDAR
