BEGIN:VCALENDAR
VERSION:2.0
PRODID:-//Johnny H Adventures
CALSCALE:GREGORIAN
METHOD:PUBLISH
X-WR-CALNAME:Johnny H Adventures
X-ORIGINAL-URL:https://www.johnnyh.com.au/products/jhda-discovering-centennial-park/
X-WR-CALDESC:JHDA: Discovering Centennial Park
BEGIN:VEVENT
DTSTART;TZID=Australia/Melbourne:20220612T090000
DTEND;TZID=Australia/Melbourne:20220612T170000
SUMMARY:JHDA: Discovering Centennial Park
DESCRIPTION:Covering 220 hectares, Centennial Park is the largest urban park in the southern hemisphere and we're going to explore what we can! We'll allow the groups and weather to decide the flow of the day whilst we're there whether it be a stroll around the gardens or a game of cricket, we'll work on the schedule at the time. We'll stop for a picnic lunch in the middle of the day and have afternoon tea there as well before heading home.
URL:https://www.johnnyh.com.au/products/jhda-discovering-centennial-park/
LOCATION:
END:VEVENT
END:VCALENDAR
