BEGIN:VCALENDAR
VERSION:2.0
PRODID:-//Johnny H Adventures
CALSCALE:GREGORIAN
METHOD:PUBLISH
X-WR-CALNAME:Johnny H Adventures
X-ORIGINAL-URL:https://www.johnnyh.com.au/products/jhsa-jh-league-bowling-bbq-round-7/
X-WR-CALDESC:JHSA: JH League Bowling &#038; BBQ Round 7
BEGIN:VEVENT
DTSTART;TZID=Australia/Melbourne:20221023T110000
DTEND;TZID=Australia/Melbourne:20221023T160000
SUMMARY:JHSA: JH League Bowling & BBQ Round 7
DESCRIPTION:Our 2022 bowling league is here. This year we'll play off averages, 4 games (2 rounds) to get our average, then 8 games (4 rounds) to qualify for entry to the league. We'll have 20 games (10 rounds) organised this winter with the award for most improved and most consistent presented at our Christmas Party. Get your friends together and get on in for the hotest competition of 2022!
URL:https://www.johnnyh.com.au/products/jhsa-jh-league-bowling-bbq-round-7/
LOCATION:
END:VEVENT
END:VCALENDAR
