BEGIN:VCALENDAR
VERSION:2.0
PRODID:-//Johnny H Adventures
CALSCALE:GREGORIAN
METHOD:PUBLISH
X-WR-CALNAME:Johnny H Adventures
X-ORIGINAL-URL:https://www.johnnyh.com.au/products/jhda-mens-big-bash-thunder-vs-scorchers-13th-jan-23/
X-WR-CALDESC:JHDA: Mens Big Bash &#8211; Thunder vs Scorchers (13th Jan 23)
BEGIN:VEVENT
DTSTART;TZID=Australia/Melbourne:20230113T163000
DTEND;TZID=Australia/Melbourne:20230113T223000
SUMMARY:JHDA: Mens Big Bash – Thunder vs Scorchers (13th Jan 23)
DESCRIPTION:BIG BASH IS BACK! We're set to head to as many games as we can through the 2022/23 season and look to hopefully follow the Sydney Thunder or Sydney Sixers to as many wins as possible hopefully taking out the league.
URL:https://www.johnnyh.com.au/products/jhda-mens-big-bash-thunder-vs-scorchers-13th-jan-23/
LOCATION:
END:VEVENT
END:VCALENDAR
