BEGIN:VCALENDAR
VERSION:2.0
PRODID:-//Johnny H Adventures
CALSCALE:GREGORIAN
METHOD:PUBLISH
X-WR-CALNAME:Johnny H Adventures
X-ORIGINAL-URL:https://www.johnnyh.com.au/products/jhda-a-wizardry-high-tea/
X-WR-CALDESC:JHDA: A Wizardry High Tea
BEGIN:VEVENT
DTSTART;TZID=Australia/Melbourne:20230113T170000
DTEND;TZID=Australia/Melbourne:20230113T220000
SUMMARY:JHDA: A Wizardry High Tea
DESCRIPTION:Behold, a spellbinding high tea is on the horizon. Grab your wands and come on a quest to an enchanted world tantalising your taste-buds at our themed High Tea. With magical interactive characters and activities, you will be left with the illusion that you have roamed the earth for a million years leaving you miraculously superhuman.
URL:https://www.johnnyh.com.au/products/jhda-a-wizardry-high-tea/
LOCATION:
END:VEVENT
END:VCALENDAR
