BEGIN:VCALENDAR
VERSION:2.0
PRODID:-//Johnny H Adventures
CALSCALE:GREGORIAN
METHOD:PUBLISH
X-WR-CALNAME:Johnny H Adventures
X-ORIGINAL-URL:https://www.johnnyh.com.au/products/jhda-v8s-gc-600-experience-friday/
X-WR-CALDESC:JHDA: V8&#8217;s: GC 600 Experience Friday
BEGIN:VEVENT
DTSTART;TZID=Australia/Melbourne:20221028T090000
DTEND;TZID=Australia/Melbourne:20221028T150000
SUMMARY:JHDA: V8’s: GC 600 Experience Friday
DESCRIPTION:We're hitting the track and burning some rubber! We'll head to watch the V8 Supercars take on the most challenging street circuit in this national series. This is an event to not be missed by the rev heads out there!
URL:https://www.johnnyh.com.au/products/jhda-v8s-gc-600-experience-friday/
LOCATION:
END:VEVENT
END:VCALENDAR
