BEGIN:VCALENDAR
VERSION:2.0
PRODID:-//Johnny H Adventures
CALSCALE:GREGORIAN
METHOD:PUBLISH
X-WR-CALNAME:Johnny H Adventures
X-ORIGINAL-URL:https://www.johnnyh.com.au/products/jhsa-zone-bowling/
X-WR-CALDESC:JHSA: Zone Bowling (8.1.23)
BEGIN:VEVENT
DTSTART;TZID=Australia/Melbourne:20230108T100000
DTEND;TZID=Australia/Melbourne:20230108T140000
SUMMARY:JHSA: Zone Bowling (8.1.23)
DESCRIPTION:Bowling is always one of Johnny H's favourite activities! We'll head to Zone for a couple of games and enjoy some lunch whilst we're out enjoying the perfect Sunday afternoon with friends.
URL:https://www.johnnyh.com.au/products/jhsa-zone-bowling/
LOCATION:
END:VEVENT
END:VCALENDAR
