BEGIN:VCALENDAR
VERSION:2.0
PRODID:-//Johnny H Adventures
CALSCALE:GREGORIAN
METHOD:PUBLISH
X-WR-CALNAME:Johnny H Adventures
X-ORIGINAL-URL:https://www.johnnyh.com.au/products/jpso-valentines-party-10-2-23/
X-WR-CALDESC:JPSO: Valentines Party (10.2.23)
BEGIN:VEVENT
DTSTART;TZID=Australia/Melbourne:20230210T170000
DTEND;TZID=Australia/Melbourne:20230210T213000
SUMMARY:JPSO: Valentines Party (10.2.23)
DESCRIPTION:It's that time of year when we celebrate love. Whether it be for each other, a special partner, our pets or family this is the night to party together on Valentine's weekend. We'll play some valentine inspired games, enjoy dinner together and of course finish the night dancing the night away!
URL:https://www.johnnyh.com.au/products/jpso-valentines-party-10-2-23/
LOCATION:
END:VEVENT
END:VCALENDAR
