BEGIN:VCALENDAR
VERSION:2.0
PRODID:-//Johnny H Adventures
CALSCALE:GREGORIAN
METHOD:PUBLISH
X-WR-CALNAME:Johnny H Adventures
X-ORIGINAL-URL:https://www.johnnyh.com.au/products/jhda-woolongong-aeroplane-museum-12-2-23/
X-WR-CALDESC:JHDA: Woolongong Aeroplane Museum (12.2.23)
BEGIN:VEVENT
DTSTART;TZID=Australia/Melbourne:20230212T080000
DTEND;TZID=Australia/Melbourne:20230212T170000
SUMMARY:JHDA: Woolongong Aeroplane Museum (12.2.23)
DESCRIPTION:We're going to head to Woolongong to visit the Aviation Museum run by the Historical Aviation Restoration Society and take in the aircraft they have on the ground and in the air.
URL:https://www.johnnyh.com.au/products/jhda-woolongong-aeroplane-museum-12-2-23/
LOCATION:
END:VEVENT
END:VCALENDAR
