BEGIN:VCALENDAR
VERSION:2.0
PRODID:-//Johnny H Adventures
CALSCALE:GREGORIAN
METHOD:PUBLISH
X-WR-CALNAME:Johnny H Adventures
X-ORIGINAL-URL:https://www.johnnyh.com.au/products/jhda-monster-truck-mania-live-26-2-23/
X-WR-CALDESC:JHDA: Monster Truck Mania Live (26.2.23)
BEGIN:VEVENT
DTSTART;TZID=Australia/Melbourne:20230226T103000
DTEND;TZID=Australia/Melbourne:20230226T180000
SUMMARY:JHDA: Monster Truck Mania Live (26.2.23)
DESCRIPTION:After wowing sell-out audiences Australia-wide, this HUGE army of mechanical high jumpers are bounding back into East Coast Arenas with action-packed events in airconditioned all-weather comfort surrounded by giant screens and blazing floodlights! Buckle up and get ready for a spectacular afternoon of family-friendly entertainment! Featuring Australia’s all-time favourite Monster Trucks, ‘Raptor’s Rampage,’ the always entertaining ‘Wicked,’ kids' favourite ‘Buddy,’ and ‘Miss Mayhem’. It’s more than just Monster Trucks – the action never stops with a flame-throwing Jet Car; eye-popping Laser Show, crazy back-flippin’ Freestyle Motocross, and great family-friendly support acts!
URL:https://www.johnnyh.com.au/products/jhda-monster-truck-mania-live-26-2-23/
LOCATION:
END:VEVENT
END:VCALENDAR
