BEGIN:VCALENDAR
VERSION:2.0
PRODID:-//Johnny H Adventures
CALSCALE:GREGORIAN
METHOD:PUBLISH
X-WR-CALNAME:Johnny H Adventures
X-ORIGINAL-URL:https://www.johnnyh.com.au/products/jhsa-bowling-score-averaging-game-25-3-23/
X-WR-CALDESC:JHSA: Bowling: Score Averaging Game (25.3.23)
BEGIN:VEVENT
DTSTART;TZID=Australia/Melbourne:20230325T150000
DTEND;TZID=Australia/Melbourne:20230325T200000
SUMMARY:JHSA: Bowling: Score Averaging Game (25.3.23)
DESCRIPTION:Our next series of bowling games are as part of our preparation for our next competition. You'll need to play 2 of the 3 games to get the average score required for the next competition. Teams Competition We will look to provide you with the opportunity to compete in a TEAMS bowling event. Teams can either be selected by you or we will put you in a team to play these games. Our teams competition will run from April onwards.
URL:https://www.johnnyh.com.au/products/jhsa-bowling-score-averaging-game-25-3-23/
LOCATION:
END:VEVENT
END:VCALENDAR
