BEGIN:VCALENDAR
VERSION:2.0
PRODID:-//Johnny H Adventures
CALSCALE:GREGORIAN
METHOD:PUBLISH
X-WR-CALNAME:Johnny H Adventures
X-ORIGINAL-URL:https://www.johnnyh.com.au/products/jhsa-laser-tag-24-3-23/
X-WR-CALDESC:JHSA: Laser Tag (24.3.23)
BEGIN:VEVENT
DTSTART;TZID=Australia/Melbourne:20230324T170000
DTEND;TZID=Australia/Melbourne:20230324T213000
SUMMARY:JHSA: Laser Tag (24.3.23)
DESCRIPTION:Let's find out who is the sharpest shooter in our team!! Enter the Laser Tag war zone, shoot through the darkness and score as many points as you can for your team by striking members of the enemy forces in their target vests on each shoulder, their backs, fronts and phaser guns. And don't forget, the enemy has its sights set on your target vests too, so do your best to out-think, out-run, and out-shoot your foe for overall supremacy. Psst, here’s a hint: look for height advantages to sneak those shots from above. Are you ready to make it rain lasers like a true blue warrior? Re-spawn, power-up, and reload – the game’s on!
URL:https://www.johnnyh.com.au/products/jhsa-laser-tag-24-3-23/
LOCATION:
END:VEVENT
END:VCALENDAR
